Package: microSTASIS Version: 1.7.0 Command: /Library/Frameworks/R.framework/Resources/bin/R CMD build --keep-empty-dirs --no-resave-data microSTASIS StartedAt: 2025-01-31 17:21:10 -0500 (Fri, 31 Jan 2025) EndedAt: 2025-01-31 17:22:28 -0500 (Fri, 31 Jan 2025) EllapsedTime: 77.9 seconds RetCode: 0 Status: OK PackageFile: microSTASIS_1.7.0.tar.gz PackageFileSize: 1.419 MiB