Package: mia Version: 1.15.20 Command: /home/biocbuild/bbs-3.21-bioc/R/bin/R CMD INSTALL mia StartedAt: 2025-01-31 15:54:41 -0500 (Fri, 31 Jan 2025) EndedAt: 2025-01-31 15:55:27 -0500 (Fri, 31 Jan 2025) EllapsedTime: 46.2 seconds RetCode: 0 Status: OK