Package: mia Version: 1.15.20 Command: /home/biocbuild/bbs-3.21-bioc/R/bin/R CMD build --keep-empty-dirs --no-resave-data mia StartedAt: 2025-01-31 18:07:57 -0500 (Fri, 31 Jan 2025) EndedAt: 2025-01-31 18:09:34 -0500 (Fri, 31 Jan 2025) EllapsedTime: 97.1 seconds RetCode: 0 Status: OK PackageFile: mia_1.15.20.tar.gz PackageFileSize: 2.993 MiB