Package: miRNAmeConverter Version: 1.35.0 Command: E:\biocbuild\bbs-3.21-bioc\R\bin\R.exe CMD INSTALL miRNAmeConverter StartedAt: 2025-01-31 15:52:31 -0500 (Fri, 31 Jan 2025) EndedAt: 2025-01-31 15:53:27 -0500 (Fri, 31 Jan 2025) EllapsedTime: 56.0 seconds RetCode: 0 Status: OK