Package: miRNAmeConverter Version: 1.35.0 Command: /home/biocbuild/bbs-3.21-bioc/R/bin/R CMD check --install=check:miRNAmeConverter.install-out.txt --library=/home/biocbuild/bbs-3.21-bioc/R/site-library --timings miRNAmeConverter_1.35.0.tar.gz StartedAt: 2025-02-01 00:08:25 -0500 (Sat, 01 Feb 2025) EndedAt: 2025-02-01 00:10:05 -0500 (Sat, 01 Feb 2025) EllapsedTime: 100.1 seconds RetCode: 0 Status: WARNINGS CheckDir: miRNAmeConverter.Rcheck Warnings: 1