Package: miRNAmeConverter Version: 1.35.0 Command: /Library/Frameworks/R.framework/Resources/bin/R CMD check --install=check:miRNAmeConverter.install-out.txt --library=/Library/Frameworks/R.framework/Resources/library --no-vignettes --timings miRNAmeConverter_1.35.0.tar.gz StartedAt: 2025-01-31 21:31:46 -0500 (Fri, 31 Jan 2025) EndedAt: 2025-01-31 21:33:42 -0500 (Fri, 31 Jan 2025) EllapsedTime: 116.8 seconds RetCode: 0 Status: WARNINGS CheckDir: miRNAmeConverter.Rcheck Warnings: 1