Package: miRNAmeConverter Version: 1.35.0 Maintainer: Stefan J. Haunsberger MaintainerEmail: stefan.haunsberger at gmail.com git_url: https://git.bioconductor.org/packages/miRNAmeConverter git_branch: devel git_last_commit: 9ede4bb git_last_commit_date: 2024-10-29 10:08:10 -0500 (Tue, 29 Oct 2024)