Package: miRBaseConverter Version: 1.31.0 Command: /home/biocbuild/bbs-3.21-bioc/R/bin/R CMD build --keep-empty-dirs --no-resave-data miRBaseConverter StartedAt: 2025-01-31 18:10:01 -0500 (Fri, 31 Jan 2025) EndedAt: 2025-01-31 18:10:23 -0500 (Fri, 31 Jan 2025) EllapsedTime: 22.0 seconds RetCode: 0 Status: OK PackageFile: miRBaseConverter_1.31.0.tar.gz PackageFileSize: 1.939 MiB