Package: miQC Version: 1.15.0 Command: /home/biocbuild/R/R/bin/R CMD INSTALL miQC StartedAt: 2025-01-29 19:41:40 -0000 (Wed, 29 Jan 2025) EndedAt: 2025-01-29 19:42:14 -0000 (Wed, 29 Jan 2025) EllapsedTime: 34.1 seconds RetCode: 0 Status: OK