Package: miQC Version: 1.15.0 Command: /home/biocbuild/R/R/bin/R CMD build --keep-empty-dirs --no-resave-data miQC StartedAt: 2025-01-29 00:21:45 -0000 (Wed, 29 Jan 2025) EndedAt: 2025-01-29 00:23:34 -0000 (Wed, 29 Jan 2025) EllapsedTime: 109.0 seconds RetCode: 0 Status: OK PackageFile: miQC_1.15.0.tar.gz PackageFileSize: 1.326 MiB