Package: mgsa Version: 1.55.0 Command: E:\biocbuild\bbs-3.21-bioc\R\bin\R.exe CMD INSTALL mgsa StartedAt: 2025-01-31 15:20:23 -0500 (Fri, 31 Jan 2025) EndedAt: 2025-01-31 15:20:55 -0500 (Fri, 31 Jan 2025) EllapsedTime: 32.3 seconds RetCode: 0 Status: OK