Package: mgsa Version: 1.55.0 Command: E:\biocbuild\bbs-3.21-bioc\R\bin\R.exe CMD check --no-multiarch --install=check:mgsa.install-out.txt --library=E:\biocbuild\bbs-3.21-bioc\R\library --no-vignettes --timings mgsa_1.55.0.tar.gz StartedAt: 2025-02-01 02:33:38 -0500 (Sat, 01 Feb 2025) EndedAt: 2025-02-01 02:34:35 -0500 (Sat, 01 Feb 2025) EllapsedTime: 56.7 seconds RetCode: 0 Status: WARNINGS CheckDir: mgsa.Rcheck Warnings: 1