Package: methylscaper Version: 1.15.0 Command: /home/biocbuild/bbs-3.21-bioc/R/bin/R CMD check --install=check:methylscaper.install-out.txt --library=/home/biocbuild/bbs-3.21-bioc/R/site-library --timings methylscaper_1.15.0.tar.gz StartedAt: 2025-01-31 23:59:22 -0500 (Fri, 31 Jan 2025) EndedAt: 2025-02-01 00:03:53 -0500 (Sat, 01 Feb 2025) EllapsedTime: 271.3 seconds RetCode: 0 Status: OK CheckDir: methylscaper.Rcheck Warnings: 0