Package: methylMnM Version: 1.45.0 Command: E:\biocbuild\bbs-3.21-bioc\R\bin\R.exe CMD check --no-multiarch --install=check:methylMnM.install-out.txt --library=E:\biocbuild\bbs-3.21-bioc\R\library --no-vignettes --timings methylMnM_1.45.0.tar.gz StartedAt: 2025-02-01 02:29:49 -0500 (Sat, 01 Feb 2025) EndedAt: 2025-02-01 02:30:33 -0500 (Sat, 01 Feb 2025) EllapsedTime: 44.5 seconds RetCode: 0 Status: OK CheckDir: methylMnM.Rcheck Warnings: 0