Package: methyLImp2 Version: 1.3.0 Command: /Library/Frameworks/R.framework/Resources/bin/R CMD check --install=check:methyLImp2.install-out.txt --library=/Library/Frameworks/R.framework/Resources/library --no-vignettes --timings methyLImp2_1.3.0.tar.gz StartedAt: 2025-01-31 21:24:18 -0500 (Fri, 31 Jan 2025) EndedAt: 2025-01-31 21:27:40 -0500 (Fri, 31 Jan 2025) EllapsedTime: 202.2 seconds RetCode: 0 Status: OK CheckDir: methyLImp2.Rcheck Warnings: 0