Package: metapone Version: 1.13.0 Command: /Library/Frameworks/R.framework/Resources/bin/R CMD build --keep-empty-dirs --no-resave-data metapone StartedAt: 2025-01-31 17:16:45 -0500 (Fri, 31 Jan 2025) EndedAt: 2025-01-31 17:34:39 -0500 (Fri, 31 Jan 2025) EllapsedTime: 1073.7 seconds RetCode: 0 Status: OK PackageFile: metapone_1.13.0.tar.gz PackageFileSize: 3.75 MiB