Package: metaSeq Version: 1.47.0 Command: E:\biocbuild\bbs-3.21-bioc\R\bin\R.exe CMD INSTALL metaSeq StartedAt: 2025-01-31 15:24:06 -0500 (Fri, 31 Jan 2025) EndedAt: 2025-01-31 15:24:30 -0500 (Fri, 31 Jan 2025) EllapsedTime: 23.3 seconds RetCode: 0 Status: OK