Package: metaSeq Version: 1.47.0 Command: chmod a+r metaSeq -R && E:\biocbuild\bbs-3.21-bioc\R\bin\R.exe CMD build --keep-empty-dirs --no-resave-data metaSeq StartedAt: 2025-01-31 19:37:14 -0500 (Fri, 31 Jan 2025) EndedAt: 2025-01-31 19:37:35 -0500 (Fri, 31 Jan 2025) EllapsedTime: 21.9 seconds RetCode: 0 Status: OK PackageFile: metaSeq_1.47.0.tar.gz PackageFileSize: 6.084 MiB