Package: metaSeq Version: 1.47.0 Command: /home/biocbuild/R/R/bin/R CMD build --keep-empty-dirs --no-resave-data metaSeq StartedAt: 2025-01-29 00:09:57 -0000 (Wed, 29 Jan 2025) EndedAt: 2025-01-29 00:10:14 -0000 (Wed, 29 Jan 2025) EllapsedTime: 17.0 seconds RetCode: 0 Status: OK PackageFile: metaSeq_1.47.0.tar.gz PackageFileSize: 6.2 MiB