Package: metaSeq Version: 1.47.0 Command: /Library/Frameworks/R.framework/Resources/bin/R CMD check --install=check:metaSeq.install-out.txt --library=/Library/Frameworks/R.framework/Resources/library --no-vignettes --timings metaSeq_1.47.0.tar.gz StartedAt: 2025-01-31 20:02:51 -0500 (Fri, 31 Jan 2025) EndedAt: 2025-01-31 20:03:17 -0500 (Fri, 31 Jan 2025) EllapsedTime: 26.3 seconds RetCode: 0 Status: OK CheckDir: metaSeq.Rcheck Warnings: 0