Package: metaMS Version: 1.43.0 Command: rm -rf metaMS.buildbin-libdir && mkdir metaMS.buildbin-libdir && E:\biocbuild\bbs-3.21-bioc\R\bin\R.exe CMD INSTALL --build --library=metaMS.buildbin-libdir metaMS_1.43.0.tar.gz StartedAt: 2025-02-01 07:36:26 -0500 (Sat, 01 Feb 2025) EndedAt: 2025-02-01 07:37:25 -0500 (Sat, 01 Feb 2025) EllapsedTime: 58.8 seconds RetCode: 0 Status: OK PackageFile: metaMS_1.43.0.zip PackageFileSize: 4.035 MiB