Package: metaMS Version: 1.43.0 Command: rm -rf metaMS.buildbin-libdir && mkdir metaMS.buildbin-libdir && /Users/biocbuild/BBS/utils/build-universal.sh metaMS_1.43.0.tar.gz /Library/Frameworks/R.framework/Resources/bin/R metaMS.buildbin-libdir StartedAt: 2025-02-01 00:25:25 -0500 (Sat, 01 Feb 2025) EndedAt: 2025-02-01 00:26:29 -0500 (Sat, 01 Feb 2025) EllapsedTime: 63.6 seconds RetCode: 0 Status: OK PackageFile: metaMS_1.43.0.tgz PackageFileSize: 4.294 MiB