Package: metaMS Version: 1.43.0 Command: /Library/Frameworks/R.framework/Resources/bin/R CMD build --keep-empty-dirs --no-resave-data metaMS StartedAt: 2025-01-31 16:52:57 -0500 (Fri, 31 Jan 2025) EndedAt: 2025-01-31 16:53:28 -0500 (Fri, 31 Jan 2025) EllapsedTime: 30.3 seconds RetCode: 0 Status: OK PackageFile: metaMS_1.43.0.tar.gz PackageFileSize: 3.818 MiB