Package: memes Version: 1.15.0 Command: /home/biocbuild/R/R/bin/R CMD INSTALL memes StartedAt: 2025-01-29 20:13:53 -0000 (Wed, 29 Jan 2025) EndedAt: 2025-01-29 20:14:12 -0000 (Wed, 29 Jan 2025) EllapsedTime: 18.7 seconds RetCode: 0 Status: OK