Package: marr Version: 1.17.0 Command: /Library/Frameworks/R.framework/Resources/bin/R CMD INSTALL marr StartedAt: 2025-01-31 15:13:38 -0500 (Fri, 31 Jan 2025) EndedAt: 2025-01-31 15:14:17 -0500 (Fri, 31 Jan 2025) EllapsedTime: 38.2 seconds RetCode: 0 Status: OK