Package: marr Version: 1.17.0 Command: /Library/Frameworks/R.framework/Resources/bin/R CMD check --install=check:marr.install-out.txt --library=/Library/Frameworks/R.framework/Resources/library --no-vignettes --timings marr_1.17.0.tar.gz StartedAt: 2025-01-31 21:15:00 -0500 (Fri, 31 Jan 2025) EndedAt: 2025-01-31 21:18:41 -0500 (Fri, 31 Jan 2025) EllapsedTime: 221.0 seconds RetCode: 0 Status: OK CheckDir: marr.Rcheck Warnings: 0