Package: mariner Version: 1.7.0 Command: /home/biocbuild/bbs-3.21-bioc/R/bin/R CMD INSTALL mariner StartedAt: 2025-01-31 15:30:52 -0500 (Fri, 31 Jan 2025) EndedAt: 2025-01-31 15:31:33 -0500 (Fri, 31 Jan 2025) EllapsedTime: 41.1 seconds RetCode: 0 Status: OK