Package: mariner Version: 1.7.0 Command: /home/biocbuild/bbs-3.21-bioc/R/bin/R CMD check --install=check:mariner.install-out.txt --library=/home/biocbuild/bbs-3.21-bioc/R/site-library --timings mariner_1.7.0.tar.gz StartedAt: 2025-01-31 23:41:54 -0500 (Fri, 31 Jan 2025) EndedAt: 2025-01-31 23:52:56 -0500 (Fri, 31 Jan 2025) EllapsedTime: 662.9 seconds RetCode: 0 Status: OK CheckDir: mariner.Rcheck Warnings: 0