Package: mariner Version: 1.7.0 Command: /home/biocbuild/bbs-3.21-bioc/R/bin/R CMD build --keep-empty-dirs --no-resave-data mariner StartedAt: 2025-01-31 17:57:08 -0500 (Fri, 31 Jan 2025) EndedAt: 2025-01-31 17:59:02 -0500 (Fri, 31 Jan 2025) EllapsedTime: 114.1 seconds RetCode: 0 Status: OK PackageFile: mariner_1.7.0.tar.gz PackageFileSize: 705 KiB