Package: magrene Version: 1.9.0 Command: chmod a+r magrene -R && E:\biocbuild\bbs-3.21-bioc\R\bin\R.exe CMD build --keep-empty-dirs --no-resave-data magrene StartedAt: 2025-01-31 19:28:18 -0500 (Fri, 31 Jan 2025) EndedAt: 2025-01-31 19:29:15 -0500 (Fri, 31 Jan 2025) EllapsedTime: 57.5 seconds RetCode: 0 Status: OK PackageFile: magrene_1.9.0.tar.gz PackageFileSize: 2.256 MiB