Package: magrene Version: 1.9.0 Command: /home/biocbuild/bbs-3.21-bioc/R/bin/R CMD INSTALL magrene StartedAt: 2025-01-31 15:22:16 -0500 (Fri, 31 Jan 2025) EndedAt: 2025-01-31 15:22:21 -0500 (Fri, 31 Jan 2025) EllapsedTime: 4.6 seconds RetCode: 0 Status: OK