Package: m6Aboost Version: 1.13.0 Command: chmod a+r m6Aboost -R && E:\biocbuild\bbs-3.21-bioc\R\bin\R.exe CMD build --keep-empty-dirs --no-resave-data m6Aboost StartedAt: 2025-02-16 19:30:00 -0500 (Sun, 16 Feb 2025) EndedAt: 2025-02-16 19:31:37 -0500 (Sun, 16 Feb 2025) EllapsedTime: 97.0 seconds RetCode: 0 Status: OK PackageFile: m6Aboost_1.13.0.tar.gz PackageFileSize: 759.8 KiB