Package: logicFS Version: 2.27.0 Command: chmod a+r logicFS -R && E:\biocbuild\bbs-3.21-bioc\R\bin\R.exe CMD build --keep-empty-dirs --no-resave-data logicFS StartedAt: 2025-01-31 19:26:14 -0500 (Fri, 31 Jan 2025) EndedAt: 2025-01-31 19:26:45 -0500 (Fri, 31 Jan 2025) EllapsedTime: 31.0 seconds RetCode: 0 Status: OK PackageFile: logicFS_2.27.0.tar.gz PackageFileSize: 151.6 KiB