Package: logicFS Version: 2.27.0 Command: /Library/Frameworks/R.framework/Resources/bin/R CMD build --keep-empty-dirs --no-resave-data logicFS StartedAt: 2025-01-31 17:11:09 -0500 (Fri, 31 Jan 2025) EndedAt: 2025-01-31 17:11:25 -0500 (Fri, 31 Jan 2025) EllapsedTime: 16.0 seconds RetCode: 0 Status: OK PackageFile: logicFS_2.27.0.tar.gz PackageFileSize: 260.2 KiB