Package: lmdme Version: 1.49.0 Command: /Library/Frameworks/R.framework/Resources/bin/R CMD check --install=check:lmdme.install-out.txt --library=/Library/Frameworks/R.framework/Resources/library --no-vignettes --timings lmdme_1.49.0.tar.gz StartedAt: 2025-01-31 21:11:19 -0500 (Fri, 31 Jan 2025) EndedAt: 2025-01-31 21:12:20 -0500 (Fri, 31 Jan 2025) EllapsedTime: 60.8 seconds RetCode: 0 Status: WARNINGS CheckDir: lmdme.Rcheck Warnings: 1