Package: lisaClust Version: 1.15.6 Command: /Library/Frameworks/R.framework/Resources/bin/R CMD build --keep-empty-dirs --no-resave-data lisaClust StartedAt: 2025-01-31 16:47:54 -0500 (Fri, 31 Jan 2025) EndedAt: 2025-01-31 16:49:18 -0500 (Fri, 31 Jan 2025) EllapsedTime: 84.0 seconds RetCode: 0 Status: OK PackageFile: lisaClust_1.15.6.tar.gz PackageFileSize: 2.554 MiB