Package: lineagespot Version: 1.11.0 Command: /Library/Frameworks/R.framework/Resources/bin/R CMD INSTALL lineagespot StartedAt: 2025-01-31 15:29:31 -0500 (Fri, 31 Jan 2025) EndedAt: 2025-01-31 15:30:21 -0500 (Fri, 31 Jan 2025) EllapsedTime: 50.0 seconds RetCode: 0 Status: OK