Package: limmaGUI Version: 1.83.0 Command: /Library/Frameworks/R.framework/Resources/bin/R CMD build --keep-empty-dirs --no-resave-data limmaGUI StartedAt: 2025-01-31 17:10:25 -0500 (Fri, 31 Jan 2025) EndedAt: 2025-01-31 17:11:00 -0500 (Fri, 31 Jan 2025) EllapsedTime: 35.5 seconds RetCode: 0 Status: OK PackageFile: limmaGUI_1.83.0.tar.gz PackageFileSize: 5.346 MiB