Package: limmaGUI Version: 1.83.0 Command: rm -rf limmaGUI.buildbin-libdir && mkdir limmaGUI.buildbin-libdir && /Users/biocbuild/BBS/utils/build-universal.sh limmaGUI_1.83.0.tar.gz /Library/Frameworks/R.framework/Resources/bin/R limmaGUI.buildbin-libdir StartedAt: 2025-02-01 00:23:49 -0500 (Sat, 01 Feb 2025) EndedAt: 2025-02-01 00:24:25 -0500 (Sat, 01 Feb 2025) EllapsedTime: 36.1 seconds RetCode: 0 Status: OK PackageFile: limmaGUI_1.83.0.tgz PackageFileSize: 5.958 MiB