Package: limma Version: 3.63.3 Command: /Library/Frameworks/R.framework/Resources/bin/R CMD build --keep-empty-dirs --no-resave-data limma StartedAt: 2025-01-31 16:47:19 -0500 (Fri, 31 Jan 2025) EndedAt: 2025-01-31 16:47:30 -0500 (Fri, 31 Jan 2025) EllapsedTime: 11.1 seconds RetCode: 0 Status: OK PackageFile: limma_3.63.3.tar.gz PackageFileSize: 2.685 MiB