Package: lfa Version: 2.7.0 Command: /home/biocbuild/bbs-3.21-bioc/R/bin/R CMD INSTALL lfa StartedAt: 2025-01-31 15:09:50 -0500 (Fri, 31 Jan 2025) EndedAt: 2025-01-31 15:10:22 -0500 (Fri, 31 Jan 2025) EllapsedTime: 31.6 seconds RetCode: 0 Status: OK