Package: lfa Version: 2.7.0 Command: /home/biocbuild/bbs-3.21-bioc/R/bin/R CMD check --install=check:lfa.install-out.txt --library=/home/biocbuild/bbs-3.21-bioc/R/site-library --timings lfa_2.7.0.tar.gz StartedAt: 2025-01-31 23:34:38 -0500 (Fri, 31 Jan 2025) EndedAt: 2025-01-31 23:35:16 -0500 (Fri, 31 Jan 2025) EllapsedTime: 38.1 seconds RetCode: 0 Status: OK CheckDir: lfa.Rcheck Warnings: 0