Package: koinar Version: 1.1.2 Command: /Library/Frameworks/R.framework/Resources/bin/R CMD INSTALL koinar StartedAt: 2025-01-31 15:11:44 -0500 (Fri, 31 Jan 2025) EndedAt: 2025-01-31 15:12:08 -0500 (Fri, 31 Jan 2025) EllapsedTime: 24.5 seconds RetCode: 0 Status: OK