Package: koinar Version: 1.1.2 Command: rm -rf koinar.buildbin-libdir && mkdir koinar.buildbin-libdir && /Users/biocbuild/BBS/utils/build-universal.sh koinar_1.1.2.tar.gz /Library/Frameworks/R.framework/Resources/bin/R koinar.buildbin-libdir StartedAt: 2025-02-01 00:23:41 -0500 (Sat, 01 Feb 2025) EndedAt: 2025-02-01 00:23:46 -0500 (Sat, 01 Feb 2025) EllapsedTime: 5.8 seconds RetCode: 0 Status: OK PackageFile: koinar_1.1.2.tgz PackageFileSize: 1.213 MiB