Package: kebabs Version: 1.41.0 Command: rm -rf kebabs.buildbin-libdir && mkdir kebabs.buildbin-libdir && E:\biocbuild\bbs-3.21-bioc\R\bin\R.exe CMD INSTALL --build --library=kebabs.buildbin-libdir kebabs_1.41.0.tar.gz StartedAt: 2025-02-03 07:35:53 -0500 (Mon, 03 Feb 2025) EndedAt: 2025-02-03 07:39:05 -0500 (Mon, 03 Feb 2025) EllapsedTime: 192.1 seconds RetCode: 0 Status: OK PackageFile: kebabs_1.41.0.zip PackageFileSize: 3.896 MiB