Package: kebabs Version: 1.41.0 Command: /Library/Frameworks/R.framework/Resources/bin/R CMD build --keep-empty-dirs --no-resave-data kebabs StartedAt: 2025-01-31 16:46:27 -0500 (Fri, 31 Jan 2025) EndedAt: 2025-01-31 16:48:11 -0500 (Fri, 31 Jan 2025) EllapsedTime: 104.2 seconds RetCode: 0 Status: OK PackageFile: kebabs_1.41.0.tar.gz PackageFileSize: 2.262 MiB