Package: katdetectr Version: 1.9.0 Command: rm -rf katdetectr.buildbin-libdir && mkdir katdetectr.buildbin-libdir && E:\biocbuild\bbs-3.21-bioc\R\bin\R.exe CMD INSTALL --build --library=katdetectr.buildbin-libdir katdetectr_1.9.0.tar.gz StartedAt: 2025-02-01 07:30:04 -0500 (Sat, 01 Feb 2025) EndedAt: 2025-02-01 07:31:16 -0500 (Sat, 01 Feb 2025) EllapsedTime: 72.2 seconds RetCode: 0 Status: OK PackageFile: katdetectr_1.9.0.zip PackageFileSize: 943.6 KiB