Package: katdetectr Version: 1.9.0 Command: /Library/Frameworks/R.framework/Resources/bin/R CMD INSTALL katdetectr StartedAt: 2025-01-31 15:22:42 -0500 (Fri, 31 Jan 2025) EndedAt: 2025-01-31 15:22:58 -0500 (Fri, 31 Jan 2025) EllapsedTime: 16.1 seconds RetCode: 0 Status: OK