Package: interactiveDisplayBase Version: 1.45.0 Command: /Library/Frameworks/R.framework/Resources/bin/R CMD INSTALL interactiveDisplayBase StartedAt: 2025-02-02 15:43:14 -0500 (Sun, 02 Feb 2025) EndedAt: 2025-02-02 15:43:19 -0500 (Sun, 02 Feb 2025) EllapsedTime: 4.8 seconds RetCode: 0 Status: OK