Package: interactiveDisplay Version: 1.45.1 Command: /Library/Frameworks/R.framework/Resources/bin/R CMD INSTALL interactiveDisplay StartedAt: 2025-01-31 15:47:25 -0500 (Fri, 31 Jan 2025) EndedAt: 2025-01-31 15:47:53 -0500 (Fri, 31 Jan 2025) EllapsedTime: 28.1 seconds RetCode: 0 Status: OK